BEGIN:VCALENDAR
VERSION:2.0
PRODID:-//金武町観光ポータルサイト - ビジット金武タウン - ECPv6.9.1//NONSGML v1.0//EN
CALSCALE:GREGORIAN
METHOD:PUBLISH
X-ORIGINAL-URL:https://www.visitkintown.jp
X-WR-CALDESC:金武町観光ポータルサイト - ビジット金武タウン のイベント
REFRESH-INTERVAL;VALUE=DURATION:PT1H
X-Robots-Tag:noindex
X-PUBLISHED-TTL:PT1H
BEGIN:VTIMEZONE
TZID:Asia/Tokyo
BEGIN:STANDARD
TZOFFSETFROM:+0900
TZOFFSETTO:+0900
TZNAME:JST
DTSTART:20200101T000000
END:STANDARD
END:VTIMEZONE
BEGIN:VEVENT
DTSTART;TZID=Asia/Tokyo:20200110T080000
DTEND;TZID=Asia/Tokyo:20200110T170000
DTSTAMP:20260423T012346
CREATED:20200110T083327Z
LAST-MODIFIED:20200110T083327Z
UID:1865-1578643200-1578675600@www.visitkintown.jp
SUMMARY:金武町物産展開催！
DESCRIPTION:金武町物産展を那覇で開催いたします。 \n期間：令和２年１月１６日（木）～１８日（土）※３日間 \n時間：１１時～１９時（最終日のみ１８時まで） \n場所：琉球新報本社ビル \nターム（田芋）の素揚げ・ぶなしめじ天ぷら、しいたけ天ぷら \nゴマサーターアンダギーの無料試食も３日間予定しています★ \n 
URL:https://www.visitkintown.jp/event/post/1865
ATTACH;FMTTYPE=:
END:VEVENT
END:VCALENDAR