BEGIN:VCALENDAR
VERSION:2.0
PRODID:-//金武町観光ポータルサイト - ビジット金武タウン - ECPv6.9.1//NONSGML v1.0//EN
CALSCALE:GREGORIAN
METHOD:PUBLISH
X-ORIGINAL-URL:https://www.visitkintown.jp
X-WR-CALDESC:金武町観光ポータルサイト - ビジット金武タウン のイベント
REFRESH-INTERVAL;VALUE=DURATION:PT1H
X-Robots-Tag:noindex
X-PUBLISHED-TTL:PT1H
BEGIN:VTIMEZONE
TZID:Asia/Tokyo
BEGIN:STANDARD
TZOFFSETFROM:+0900
TZOFFSETTO:+0900
TZNAME:JST
DTSTART:20210101T000000
END:STANDARD
END:VTIMEZONE
BEGIN:VEVENT
DTSTART;TZID=Asia/Tokyo:20210105T080000
DTEND;TZID=Asia/Tokyo:20210105T170000
DTSTAMP:20260423T045518
CREATED:20210105T050734Z
LAST-MODIFIED:20210105T050734Z
UID:1952-1609833600-1609866000@www.visitkintown.jp
SUMMARY:沖縄県民 ７２組限定！キャンピングシアターイベント開催‼︎
DESCRIPTION:【沖縄県民 限定72組】キャンピングシアター イベント開催！ \n２０２１年１月１５日・１６日・１７日の３日間、キャンプや映画・多数の無料ワークショップが楽しめるイベントを開催いたします。（映画：上映は１５日・１６日の夕方より）１泊２日でもOK！ \nネイチャーみらい館メイン広場に特設キャンプ区画を設置します。 \nシアターやワークショップ会場に近く便利なサイト区画です。 \n  \n◎キャンピングシアターイベント上映作品はこの二つ！ \n今だからこそ大切な人と一緒にみたい心温まる作品✨ \n＊１５日／マリリンに逢いたい\n＊１６日／洗骨 \n  \n◎無料ワークショップ（アウトドアショップNEOS共催）\nカヌー体験や水牛車、アウトドア講習、スラックラインやヨガなど多数のワークショップを無料にてご用意しております。 \n詳しくはネイチャーみらい館Webサイトまたは、お電話にてお問い合わせください。 \n電話：０９８−９６８−６１１７ \n※ご予約組達し次第締め切らせていただきます、予めご了承ください。 \n※安心していただけるよう、本イベントで、ご参加組数制限など感染症対策防止対策を実施しております。ご来場のお客様には【人前でのマスクの着用】【こまめな手洗い】【ソーシャルディスタンス】のご協力をよろしくお願いいたします。
URL:https://www.visitkintown.jp/event/post/1952
ATTACH;FMTTYPE=image/jpeg:https://www.visitkintown.jp/admin/wp-content/uploads/2021/01/C9546E2B-EABB-446F-9A04-3127A6C99E63.jpeg
END:VEVENT
END:VCALENDAR